BEGIN:VCALENDAR
VERSION:2.0
PRODID:-//Military Veterans Outdoors - ECPv6.15.20//NONSGML v1.0//EN
CALSCALE:GREGORIAN
METHOD:PUBLISH
X-ORIGINAL-URL:https://militaryveteransoutdoors.com
X-WR-CALDESC:Events for Military Veterans Outdoors
REFRESH-INTERVAL;VALUE=DURATION:PT1H
X-Robots-Tag:noindex
X-PUBLISHED-TTL:PT1H
BEGIN:VTIMEZONE
TZID:UTC
BEGIN:STANDARD
TZOFFSETFROM:+0000
TZOFFSETTO:+0000
TZNAME:UTC
DTSTART:20190101T000000
END:STANDARD
END:VTIMEZONE
BEGIN:VEVENT
DTSTART;VALUE=DATE:20200912
DTEND;VALUE=DATE:20201128
DTSTAMP:20260420T080426
CREATED:20200904T181031Z
LAST-MODIFIED:20200904T181031Z
UID:850-1599868800-1606521599@militaryveteransoutdoors.com
SUMMARY:Squirrel Season
DESCRIPTION:
URL:https://militaryveteransoutdoors.com/event/squirrel-season/
CATEGORIES:Hunting Seasons 2020-2021
END:VEVENT
BEGIN:VEVENT
DTSTART;VALUE=DATE:20201017
DTEND;VALUE=DATE:20201128
DTSTAMP:20260420T080426
CREATED:20200904T184501Z
LAST-MODIFIED:20200904T184501Z
UID:858-1602892800-1606521599@militaryveteransoutdoors.com
SUMMARY:Rabbit and Grouse Season
DESCRIPTION:
URL:https://militaryveteransoutdoors.com/event/rabbit-and-grouse-season/
CATEGORIES:Hunting Seasons 2020-2021
END:VEVENT
BEGIN:VEVENT
DTSTART;VALUE=DATE:20201121
DTEND;VALUE=DATE:20201125
DTSTAMP:20260420T080426
CREATED:20200904T171650Z
LAST-MODIFIED:20200904T171650Z
UID:842-1605916800-1606262399@militaryveteransoutdoors.com
SUMMARY:Bear (Regular Rirearms)
DESCRIPTION:Sunday\, 22 November is legal Bear hunting day.
URL:https://militaryveteransoutdoors.com/event/bear-regular-rirearms/
CATEGORIES:Hunting Seasons 2020-2021
END:VEVENT
END:VCALENDAR