BEGIN:VCALENDAR
VERSION:2.0
PRODID:-//Military Veterans Outdoors - ECPv6.15.20//NONSGML v1.0//EN
CALSCALE:GREGORIAN
METHOD:PUBLISH
X-ORIGINAL-URL:https://militaryveteransoutdoors.com
X-WR-CALDESC:Events for Military Veterans Outdoors
REFRESH-INTERVAL;VALUE=DURATION:PT1H
X-Robots-Tag:noindex
X-PUBLISHED-TTL:PT1H
BEGIN:VTIMEZONE
TZID:UTC
BEGIN:STANDARD
TZOFFSETFROM:+0000
TZOFFSETTO:+0000
TZNAME:UTC
DTSTART:20220101T000000
END:STANDARD
END:VTIMEZONE
BEGIN:VEVENT
DTSTART;TZID=UTC:20231112T100000
DTEND;TZID=UTC:20231112T170000
DTSTAMP:20260422T001134
CREATED:20230924T133221Z
LAST-MODIFIED:20231013T120545Z
UID:1740-1699783200-1699808400@militaryveteransoutdoors.com
SUMMARY:Work Party (CNX/TBD due to conflict with legal Sunday hunting)
DESCRIPTION:Work parties are tenative till confirmed at the monthly meeting.  Members should meet at the conex at 10AM.
URL:https://militaryveteransoutdoors.com/event/work-party-4/
LOCATION:MVO Grounds
CATEGORIES:Work Parties 2023
END:VEVENT
END:VCALENDAR