BEGIN:VCALENDAR
VERSION:2.0
PRODID:-//Military Veterans Outdoors - ECPv6.15.20//NONSGML v1.0//EN
CALSCALE:GREGORIAN
METHOD:PUBLISH
X-WR-CALNAME:Military Veterans Outdoors
X-ORIGINAL-URL:https://militaryveteransoutdoors.com
X-WR-CALDESC:Events for Military Veterans Outdoors
REFRESH-INTERVAL;VALUE=DURATION:PT1H
X-Robots-Tag:noindex
X-PUBLISHED-TTL:PT1H
BEGIN:VTIMEZONE
TZID:UTC
BEGIN:STANDARD
TZOFFSETFROM:+0000
TZOFFSETTO:+0000
TZNAME:UTC
DTSTART:20220101T000000
END:STANDARD
END:VTIMEZONE
BEGIN:VEVENT
DTSTART;VALUE=DATE:20230909
DTEND;VALUE=DATE:20230924
DTSTAMP:20260425T195128
CREATED:20230704T141349Z
LAST-MODIFIED:20230704T141349Z
UID:1704-1694217600-1695513599@militaryveteransoutdoors.com
SUMMARY:Squirrel Youth hunt
DESCRIPTION:
URL:https://militaryveteransoutdoors.com/event/squirrel-youth-hunt/
CATEGORIES:Hunting Seasons 2023-2024
END:VEVENT
BEGIN:VEVENT
DTSTART;TZID=UTC:20230909T100000
DTEND;TZID=UTC:20230909T110000
DTSTAMP:20260425T195128
CREATED:20211101T161107Z
LAST-MODIFIED:20230808T125812Z
UID:1560-1694253600-1694257200@militaryveteransoutdoors.com
SUMMARY:MVO Meeting
DESCRIPTION:Meetings are held at the Conex with a rain option of moving to the maintenance shed.
URL:https://militaryveteransoutdoors.com/event/mvo-meeting-11-2023-03-01-2023-09-02/
LOCATION:MVO Grounds
CATEGORIES:Member Meetings 2023
END:VEVENT
BEGIN:VEVENT
DTSTART;TZID=UTC:20230909T110000
DTEND;TZID=UTC:20230909T170000
DTSTAMP:20260425T195128
CREATED:20230119T193248Z
LAST-MODIFIED:20230808T125922Z
UID:1568-1694257200-1694278800@militaryveteransoutdoors.com
SUMMARY:Work Party
DESCRIPTION:Work party will commence immediately after the meeting.
URL:https://militaryveteransoutdoors.com/event/work-party-3-2023-09-02/
LOCATION:MVO Grounds
CATEGORIES:Work Parties 2023
END:VEVENT
BEGIN:VEVENT
DTSTART;VALUE=DATE:20230916
DTEND;VALUE=DATE:20231001
DTSTAMP:20260425T195128
CREATED:20230704T140513Z
LAST-MODIFIED:20230704T140513Z
UID:1699-1694822400-1696118399@militaryveteransoutdoors.com
SUMMARY:Elk Archery
DESCRIPTION:
URL:https://militaryveteransoutdoors.com/event/elk-archery-2/
CATEGORIES:Hunting Seasons 2023-2024
END:VEVENT
BEGIN:VEVENT
DTSTART;TZID=UTC:20231008T100000
DTEND;TZID=UTC:20231008T110000
DTSTAMP:20260425T195128
CREATED:20230924T131845Z
LAST-MODIFIED:20230924T131845Z
UID:1729-1696759200-1696762800@militaryveteransoutdoors.com
SUMMARY:MVO Meeting
DESCRIPTION:Meetings are held at the conex with a rain option of moving to the maintenance shed.
URL:https://militaryveteransoutdoors.com/event/mvo-meeting-9/
LOCATION:MVO Grounds
CATEGORIES:Member Meetings 2023
END:VEVENT
BEGIN:VEVENT
DTSTART;TZID=UTC:20231008T110000
DTEND;TZID=UTC:20231008T170000
DTSTAMP:20260425T195128
CREATED:20230924T132203Z
LAST-MODIFIED:20230924T132203Z
UID:1731-1696762800-1696784400@militaryveteransoutdoors.com
SUMMARY:Work Party
DESCRIPTION:Work party will commence immediately after the meeting.
URL:https://militaryveteransoutdoors.com/event/work-party-2/
LOCATION:MVO Grounds
CATEGORIES:Work Parties 2023
END:VEVENT
BEGIN:VEVENT
DTSTART;VALUE=DATE:20231014
DTEND;VALUE=DATE:20231022
DTSTAMP:20260425T195128
CREATED:20230704T134759Z
LAST-MODIFIED:20230704T134759Z
UID:1687-1697241600-1697932799@militaryveteransoutdoors.com
SUMMARY:Muzzleloader (Bear)
DESCRIPTION:
URL:https://militaryveteransoutdoors.com/event/muzzleloader-bear/
CATEGORIES:Hunting Seasons 2023-2024
END:VEVENT
BEGIN:VEVENT
DTSTART;VALUE=DATE:20231014
DTEND;VALUE=DATE:20231022
DTSTAMP:20260425T195128
CREATED:20230704T132824Z
LAST-MODIFIED:20230704T132935Z
UID:1679-1697241600-1697932799@militaryveteransoutdoors.com
SUMMARY:Muzzleloader (Antlerless Only)
DESCRIPTION:
URL:https://militaryveteransoutdoors.com/event/muzzleloader-antlerless-only-3/
CATEGORIES:Hunting Seasons 2023-2024
END:VEVENT
BEGIN:VEVENT
DTSTART;VALUE=DATE:20231019
DTEND;VALUE=DATE:20231022
DTSTAMP:20260425T195128
CREATED:20230704T135001Z
LAST-MODIFIED:20230704T135001Z
UID:1689-1697673600-1697932799@militaryveteransoutdoors.com
SUMMARY:Special Firearms Bear
DESCRIPTION:
URL:https://militaryveteransoutdoors.com/event/special-firearms-bear-2/
CATEGORIES:Hunting Seasons 2023-2024
END:VEVENT
BEGIN:VEVENT
DTSTART;VALUE=DATE:20231019
DTEND;VALUE=DATE:20231022
DTSTAMP:20260425T195128
CREATED:20230704T133936Z
LAST-MODIFIED:20230704T133936Z
UID:1681-1697673600-1697932799@militaryveteransoutdoors.com
SUMMARY:Special Firearms
DESCRIPTION:Junior and Senior License Holders\, Mentored License Holders\, Active duty Persons\, and Persons with Permit to Use a Vehicle as a Blind.
URL:https://militaryveteransoutdoors.com/event/special-firearms-2/
CATEGORIES:Hunting Seasons 2023-2024
END:VEVENT
END:VCALENDAR